BEGIN:VCALENDAR
VERSION:2.0
PRODID:-//Rambling Ruminations - ECPv6.15.20//NONSGML v1.0//EN
CALSCALE:GREGORIAN
METHOD:PUBLISH
X-ORIGINAL-URL:https://ramblingruminations.com
X-WR-CALDESC:Events for Rambling Ruminations
REFRESH-INTERVAL;VALUE=DURATION:PT1H
X-Robots-Tag:noindex
X-PUBLISHED-TTL:PT1H
BEGIN:VTIMEZONE
TZID:America/New_York
BEGIN:DAYLIGHT
TZOFFSETFROM:-0500
TZOFFSETTO:-0400
TZNAME:EDT
DTSTART:20250309T070000
END:DAYLIGHT
BEGIN:STANDARD
TZOFFSETFROM:-0400
TZOFFSETTO:-0500
TZNAME:EST
DTSTART:20251102T060000
END:STANDARD
BEGIN:DAYLIGHT
TZOFFSETFROM:-0500
TZOFFSETTO:-0400
TZNAME:EDT
DTSTART:20260308T070000
END:DAYLIGHT
BEGIN:STANDARD
TZOFFSETFROM:-0400
TZOFFSETTO:-0500
TZNAME:EST
DTSTART:20261101T060000
END:STANDARD
BEGIN:DAYLIGHT
TZOFFSETFROM:-0500
TZOFFSETTO:-0400
TZNAME:EDT
DTSTART:20270314T070000
END:DAYLIGHT
BEGIN:STANDARD
TZOFFSETFROM:-0400
TZOFFSETTO:-0500
TZNAME:EST
DTSTART:20271107T060000
END:STANDARD
END:VTIMEZONE
BEGIN:VEVENT
DTSTART;TZID=America/New_York:20260413T141500
DTEND;TZID=America/New_York:20260413T154000
DTSTAMP:20260424T025943
CREATED:20251210T193517Z
LAST-MODIFIED:20260203T170138Z
UID:4229-1776089700-1776094800@ramblingruminations.com
SUMMARY:Teaching for OLLI at GMU-2
DESCRIPTION:Doc – Feb 3 2026 – 10-10 AMDoc – Feb 3 2026 – 10-10 AM \nDr. Crocker will be teaching on her World War II book series at GMU for registered seniors.
URL:https://ramblingruminations.com/event/teaching-for-olli-at-gmu-2/
LOCATION:George Mason University\, 4400 University Drive\, Fairfax\, VA\, 22030\, United States
CATEGORIES:Senior Center,Speaker
ATTACH;FMTTYPE=image/png:https://ramblingruminations.com/wp-content/uploads/2025/12/Screenshot-2025-12-10-at-2.26.45-PM.png
END:VEVENT
END:VCALENDAR