BEGIN:VCALENDAR
VERSION:2.0
PRODID:-//Rambling Ruminations - ECPv6.15.20//NONSGML v1.0//EN
CALSCALE:GREGORIAN
METHOD:PUBLISH
X-WR-CALNAME:Rambling Ruminations
X-ORIGINAL-URL:https://ramblingruminations.com
X-WR-CALDESC:Events for Rambling Ruminations
REFRESH-INTERVAL;VALUE=DURATION:PT1H
X-Robots-Tag:noindex
X-PUBLISHED-TTL:PT1H
BEGIN:VTIMEZONE
TZID:America/New_York
BEGIN:DAYLIGHT
TZOFFSETFROM:-0500
TZOFFSETTO:-0400
TZNAME:EDT
DTSTART:20250309T070000
END:DAYLIGHT
BEGIN:STANDARD
TZOFFSETFROM:-0400
TZOFFSETTO:-0500
TZNAME:EST
DTSTART:20251102T060000
END:STANDARD
BEGIN:DAYLIGHT
TZOFFSETFROM:-0500
TZOFFSETTO:-0400
TZNAME:EDT
DTSTART:20260308T070000
END:DAYLIGHT
BEGIN:STANDARD
TZOFFSETFROM:-0400
TZOFFSETTO:-0500
TZNAME:EST
DTSTART:20261101T060000
END:STANDARD
BEGIN:DAYLIGHT
TZOFFSETFROM:-0500
TZOFFSETTO:-0400
TZNAME:EDT
DTSTART:20270314T070000
END:DAYLIGHT
BEGIN:STANDARD
TZOFFSETFROM:-0400
TZOFFSETTO:-0500
TZNAME:EST
DTSTART:20271107T060000
END:STANDARD
END:VTIMEZONE
BEGIN:VEVENT
DTSTART;VALUE=DATE:20261204
DTEND;VALUE=DATE:20261207
DTSTAMP:20260424T081610
CREATED:20251210T191259Z
LAST-MODIFIED:20251210T193816Z
UID:4219-1796342400-1796601599@ramblingruminations.com
SUMMARY:Christmas Craft Show
DESCRIPTION:Join Santa\, me\, and lots of other vendors at this fantastic craft show. One-stop shopping for most of your Christmas gifts!
URL:https://ramblingruminations.com/event/christmas-craft-show/
LOCATION:Fredericksburg Convention Center\, 2371 Carl D Silver Pkwy\, Fredericksburg\, VA\, United States
CATEGORIES:Craft Fair
ATTACH;FMTTYPE=image/png:https://ramblingruminations.com/wp-content/uploads/2025/12/Screenshot-2025-12-10-at-11.25.13-AM.png
END:VEVENT
END:VCALENDAR