BEGIN:VCALENDAR
VERSION:2.0
PRODID:-//Rambling Ruminations - ECPv6.15.20//NONSGML v1.0//EN
CALSCALE:GREGORIAN
METHOD:PUBLISH
X-WR-CALNAME:Rambling Ruminations
X-ORIGINAL-URL:https://ramblingruminations.com
X-WR-CALDESC:Events for Rambling Ruminations
REFRESH-INTERVAL;VALUE=DURATION:PT1H
X-Robots-Tag:noindex
X-PUBLISHED-TTL:PT1H
BEGIN:VTIMEZONE
TZID:America/New_York
BEGIN:DAYLIGHT
TZOFFSETFROM:-0500
TZOFFSETTO:-0400
TZNAME:EDT
DTSTART:20250309T070000
END:DAYLIGHT
BEGIN:STANDARD
TZOFFSETFROM:-0400
TZOFFSETTO:-0500
TZNAME:EST
DTSTART:20251102T060000
END:STANDARD
BEGIN:DAYLIGHT
TZOFFSETFROM:-0500
TZOFFSETTO:-0400
TZNAME:EDT
DTSTART:20260308T070000
END:DAYLIGHT
BEGIN:STANDARD
TZOFFSETFROM:-0400
TZOFFSETTO:-0500
TZNAME:EST
DTSTART:20261101T060000
END:STANDARD
BEGIN:DAYLIGHT
TZOFFSETFROM:-0500
TZOFFSETTO:-0400
TZNAME:EDT
DTSTART:20270314T070000
END:DAYLIGHT
BEGIN:STANDARD
TZOFFSETFROM:-0400
TZOFFSETTO:-0500
TZNAME:EST
DTSTART:20271107T060000
END:STANDARD
BEGIN:DAYLIGHT
TZOFFSETFROM:-0500
TZOFFSETTO:-0400
TZNAME:EDT
DTSTART:20280312T070000
END:DAYLIGHT
BEGIN:STANDARD
TZOFFSETFROM:-0400
TZOFFSETTO:-0500
TZNAME:EST
DTSTART:20281105T060000
END:STANDARD
END:VTIMEZONE
BEGIN:VEVENT
DTSTART;VALUE=DATE:20260604
DTEND;VALUE=DATE:20260607
DTSTAMP:20260423T064420
CREATED:20250701T123752Z
LAST-MODIFIED:20260418T183208Z
UID:3089-1780531200-1780790399@ramblingruminations.com
SUMMARY:Home Educators of Virginia Convention
DESCRIPTION:Rambling Ruminations will be a vendor at this fantastic homeschool event. Details to follow.
URL:https://ramblingruminations.com/event/home-educators-of-virginia-convention/
LOCATION:Richmond Convention Center\, 403 North 3rd St\, Richmond\, VA\, United States
CATEGORIES:Conference,Conference Vendor,Speaker
ATTACH;FMTTYPE=image/png:https://ramblingruminations.com/wp-content/uploads/2025/09/Screenshot-2025-09-04-at-11.39.23-AM.png
END:VEVENT
BEGIN:VEVENT
DTSTART;VALUE=DATE:20260919
DTEND;VALUE=DATE:20260921
DTSTAMP:20260423T064420
CREATED:20251210T165135Z
LAST-MODIFIED:20251210T194347Z
UID:4199-1789776000-1789948799@ramblingruminations.com
SUMMARY:Bluemont Fair
DESCRIPTION:Enjoy the fair\, complete with animals\, fair food\, music\, books\, and fun!
URL:https://ramblingruminations.com/event/bluemont-fair/
LOCATION:Bluemont Fair\, 33846 Snickersville Turnpike\, Bluemont\, VA\, United States
CATEGORIES:Craft Fair
ATTACH;FMTTYPE=image/png:https://ramblingruminations.com/wp-content/uploads/2025/12/Screenshot-2025-12-10-at-11.46.25-AM.png
END:VEVENT
BEGIN:VEVENT
DTSTART;VALUE=DATE:20260926
DTEND;VALUE=DATE:20260928
DTSTAMP:20260423T064420
CREATED:20260413T135547Z
LAST-MODIFIED:20260418T182807Z
UID:4370-1790380800-1790553599@ramblingruminations.com
SUMMARY:Burke Centre Festival
DESCRIPTION:Come to this always popular festival! Pony rides\, great food\, crafts\, and best of all\, my books! See you there!!
URL:https://ramblingruminations.com/event/burke-centre-festival-2/
LOCATION:Burke Centre Festival Grounds\, 6060 Burke Centre Pkwy\, Burke\, VA\, United States
CATEGORIES:Books signing,Craft Fair
ATTACH;FMTTYPE=image/png:https://ramblingruminations.com/wp-content/uploads/2026/04/Screenshot-2026-04-13-at-9.52.46-AM.png
END:VEVENT
BEGIN:VEVENT
DTSTART;TZID=America/New_York:20261003T100000
DTEND;TZID=America/New_York:20261003T160000
DTSTAMP:20260423T064420
CREATED:20260413T140144Z
LAST-MODIFIED:20260418T182859Z
UID:4373-1791021600-1791043200@ramblingruminations.com
SUMMARY:Fredericksburg Independent Book Festival
DESCRIPTION:I’m waitlisted here\, so may come–or not! I’ll update as and when I know more. But\, do come to get the latest books by Indie authors!
URL:https://ramblingruminations.com/event/fredericksburg-independent-book-festival/
LOCATION:Riverfront P\, Riverfront Park\,\, Fredericksburg\, VA\, 23185\, United States
CATEGORIES:Book Signing
ATTACH;FMTTYPE=image/png:https://ramblingruminations.com/wp-content/uploads/2026/04/Screenshot-2026-04-13-at-9.56.39-AM.png
END:VEVENT
BEGIN:VEVENT
DTSTART;VALUE=DATE:20261010
DTEND;VALUE=DATE:20261012
DTSTAMP:20260423T064420
CREATED:20251210T170933Z
LAST-MODIFIED:20251210T194238Z
UID:4217-1791590400-1791763199@ramblingruminations.com
SUMMARY:Fall Arts and Crafts Show
DESCRIPTION:Loved the venue. Loved the organization. Loved the people. So\, I’ll be here. Come and see why–and get some books while you’re at it!
URL:https://ramblingruminations.com/event/fall-arts-and-crafts-show/
LOCATION:Fredericksburg Convention Center\, 2371 Carl D Silver Pkwy\, Fredericksburg\, VA\, United States
CATEGORIES:Craft Fair
ATTACH;FMTTYPE=image/png:https://ramblingruminations.com/wp-content/uploads/2025/12/Screenshot-2025-12-10-at-11.00.12-AM.png
END:VEVENT
BEGIN:VEVENT
DTSTART;VALUE=DATE:20261107
DTEND;VALUE=DATE:20261108
DTSTAMP:20260423T064420
CREATED:20251210T191714Z
LAST-MODIFIED:20251210T194059Z
UID:4221-1794009600-1794095999@ramblingruminations.com
SUMMARY:Woodson Craft Show
DESCRIPTION:This one hasn’t even been scheduled or opened to vendors yet\, but we will be there when it does. A little show that offers a lot of fun.
URL:https://ramblingruminations.com/event/woodson-craft-show/
LOCATION:Woodson High School\, 9525 Main St\, FAIRFAX\, VA\, 22030-2139\, United States
CATEGORIES:Craft Fair
ATTACH;FMTTYPE=image/png:https://ramblingruminations.com/wp-content/uploads/2025/12/Screenshot-2025-12-10-at-11.39.54-AM.png
END:VEVENT
BEGIN:VEVENT
DTSTART;VALUE=DATE:20261114
DTEND;VALUE=DATE:20261115
DTSTAMP:20260423T064420
CREATED:20251210T192038Z
LAST-MODIFIED:20251210T193939Z
UID:4223-1794614400-1794700799@ramblingruminations.com
SUMMARY:The Robinson Marketplace
DESCRIPTION:It’s always a joy to support local schools–and this one’s craft fair will be amazing. Once we can sign up\, we will let you know when it is!
URL:https://ramblingruminations.com/event/the-robinson-marketplace/
LOCATION:Robinson Middle School\, 5035 Sideburn Rd\, Fairfax\, VA\, United States
CATEGORIES:Craft Fair
ATTACH;FMTTYPE=image/png:https://ramblingruminations.com/wp-content/uploads/2025/12/Screenshot-2025-12-10-at-11.37.38-AM.png
END:VEVENT
BEGIN:VEVENT
DTSTART;VALUE=DATE:20261204
DTEND;VALUE=DATE:20261207
DTSTAMP:20260423T064420
CREATED:20251210T191259Z
LAST-MODIFIED:20251210T193816Z
UID:4219-1796342400-1796601599@ramblingruminations.com
SUMMARY:Christmas Craft Show
DESCRIPTION:Join Santa\, me\, and lots of other vendors at this fantastic craft show. One-stop shopping for most of your Christmas gifts!
URL:https://ramblingruminations.com/event/christmas-craft-show/
LOCATION:Fredericksburg Convention Center\, 2371 Carl D Silver Pkwy\, Fredericksburg\, VA\, United States
CATEGORIES:Craft Fair
ATTACH;FMTTYPE=image/png:https://ramblingruminations.com/wp-content/uploads/2025/12/Screenshot-2025-12-10-at-11.25.13-AM.png
END:VEVENT
BEGIN:VEVENT
DTSTART;TZID=America/New_York:20270403T090000
DTEND;TZID=America/New_York:20270404T170000
DTSTAMP:20260423T064420
CREATED:20260413T140847Z
LAST-MODIFIED:20260418T182952Z
UID:4377-1806742800-1806858000@ramblingruminations.com
SUMMARY:Fredericksburg Spring Craft Fair
DESCRIPTION:Come to this HUGE craft fair and find out all about my books. Makes the former Dulles Expo Center fairs look small!
URL:https://ramblingruminations.com/event/fredericksburg-spring-craft-fair/
LOCATION:Fredericksburg Convention Center\, 2371 Carl D Silver Pkwy\, Fredericksburg\, VA\, United States
CATEGORIES:Book Signing,Craft Fair
ATTACH;FMTTYPE=image/jpeg:https://ramblingruminations.com/wp-content/uploads/2026/04/Set-upCrocker-scaled.jpeg
END:VEVENT
END:VCALENDAR